BEGIN:VCALENDAR
VERSION:2.0
PRODID:-//www.charitablehealthcarenetwork.org//NONSGML kigkonsult.se iCalcr
 eator 2.30.10//
CALSCALE:GREGORIAN
METHOD:PUBLISH
UID:4b95ff4c-96a6-4bc8-92b1-dc50886aa65a
X-WR-CALDESC:Q1 Report (July 1\, 2020 - September 30\, 2020) for 2020/21 UC
 F Direct Services Due.
X-WR-RELCALID:d6de6d13bae8b85df53bba2f2d0744b5
X-WR-TIMEZONE:America/New_York
BEGIN:VTIMEZONE
TZID:America/New_York
BEGIN:STANDARD
TZNAME:EST
DTSTART:20191103T020000
TZOFFSETFROM:-0400
TZOFFSETTO:-0500
RDATE:20201101T020000
RDATE:20211107T020000
END:STANDARD
BEGIN:DAYLIGHT
TZNAME:EDT
DTSTART:20200308T020000
TZOFFSETFROM:-0500
TZOFFSETTO:-0400
RDATE:20210314T020000
RDATE:20220313T020000
END:DAYLIGHT
END:VTIMEZONE
BEGIN:VEVENT
UID:10ecf6b0-5a69-482b-8b28-e6351d5b9938
DTSTAMP:20260426T042154Z
DESCRIPTION:Q1 Report (July 1\, 2020 - September 30\, 2020) for 2020/21 UCF
  Direct Services Due.
DTSTART;TZID=America/New_York:20201016T000000
DTEND;TZID=America/New_York:20201016T235900
LOCATION:
SUMMARY:UCF Direct Services: Q1 Report Due
END:VEVENT
END:VCALENDAR
