BEGIN:VCALENDAR
VERSION:2.0
PRODID:-//www.charitablehealthcarenetwork.org//NONSGML kigkonsult.se iCalcr
 eator 2.30.10//
CALSCALE:GREGORIAN
METHOD:PUBLISH
UID:0c2f4ebb-9868-4aa9-be2d-8a862898587f
X-WR-CALDESC:Deborah Miller is inviting you to a scheduled Zoom meeting.\n
 \nTopic: UCF Distribution Committee Meeting\nTime: Sep 25\, 2020 08:00 AM 
 Eastern Time (US and Canada)\n\nJoin Zoom Meeting\nhttps://us02web.zoom.us
 /j/84715469364\n\nMeeting ID: 847 1546 9364\nOne tap mobile\n+13017158592\
 ,\,84715469364# US (Germantown)\n+13126266799\,\,84715469364# US (Chicago)
 \n\nDial by your location\n        +1 301 715 8592 US (Germantown)\n      
   +1 312 626 6799 US (Chicago)\n        +1 646 558 8656 US (New York)\n   
      +1 253 215 8782 US (Tacoma)\n        +1 346 248 7799 US (Houston)\n  
       +1 669 900 9128 US (San Jose)\nMeeting ID: 847 1546 9364\nFind your 
 local number: https://us02web.zoom.us/u/kbKPHon97b\n\n
X-WR-RELCALID:a97f25aac7adf3e75f038c9a0c4e75f9
X-WR-TIMEZONE:America/New_York
BEGIN:VTIMEZONE
TZID:America/New_York
BEGIN:STANDARD
TZNAME:EST
DTSTART:20191103T020000
TZOFFSETFROM:-0400
TZOFFSETTO:-0500
RDATE:20201101T020000
RDATE:20211107T020000
END:STANDARD
BEGIN:DAYLIGHT
TZNAME:EDT
DTSTART:20200308T020000
TZOFFSETFROM:-0500
TZOFFSETTO:-0400
RDATE:20210314T020000
RDATE:20220313T020000
END:DAYLIGHT
END:VTIMEZONE
BEGIN:VEVENT
UID:3690a092-30f3-445e-be67-eb84c7772082
DTSTAMP:20260426T042331Z
DESCRIPTION:Deborah Miller is inviting you to a scheduled Zoom meeting.\n\n
 Topic: UCF Distribution Committee Meeting\nTime: Sep 25\, 2020 08:00 AM Ea
 stern Time (US and Canada)\n\nJoin Zoom Meeting\nhttps://us02web.zoom.us/j
 /84715469364\n\nMeeting ID: 847 1546 9364\nOne tap mobile\n+13017158592\,\
 ,84715469364# US (Germantown)\n+13126266799\,\,84715469364# US (Chicago)\n
 \nDial by your location\n        +1 301 715 8592 US (Germantown)\n        
 +1 312 626 6799 US (Chicago)\n        +1 646 558 8656 US (New York)\n     
    +1 253 215 8782 US (Tacoma)\n        +1 346 248 7799 US (Houston)\n    
     +1 669 900 9128 US (San Jose)\nMeeting ID: 847 1546 9364\nFind your lo
 cal number: https://us02web.zoom.us/u/kbKPHon97b\n\n
DTSTART;TZID=America/New_York:20201023T080000
DTEND;TZID=America/New_York:20201023T090000
LOCATION:Zoom Meeting
SUMMARY:UCF Distribution Committee Meeting
END:VEVENT
END:VCALENDAR
