BEGIN:VCALENDAR
VERSION:2.0
PRODID:-//www.charitablehealthcarenetwork.org//NONSGML kigkonsult.se iCalcr
 eator 2.30.10//
CALSCALE:GREGORIAN
METHOD:PUBLISH
UID:93aca3be-0173-44e9-b9cb-da6c6fc6ead4
X-WR-CALDESC:Join Zoom Meeting\nhttps://us02web.zoom.us/j/86062191742\n\nMe
 eting ID: 860 6219 1742\nOne tap mobile\n+16465588656\,\,86062191742# US (
 New York)\n+13017158592\,\,86062191742# US (Germantown)\n\nDial by your lo
 cation\n        +1 646 558 8656 US (New York)\n        +1 301 715 8592 US 
 (Germantown)\n        +1 312 626 6799 US (Chicago)\n        +1 669 900 912
 8 US (San Jose)\n        +1 253 215 8782 US (Tacoma)\n        +1 346 248 7
 799 US (Houston)\nMeeting ID: 860 6219 1742\nFind your local number: https
 ://us02web.zoom.us/u/kdz57iMaVF\n
X-WR-RELCALID:994db42da4feadfab5e15cb0dcd23e76
X-WR-TIMEZONE:America/New_York
BEGIN:VTIMEZONE
TZID:America/New_York
BEGIN:STANDARD
TZNAME:EST
DTSTART:20191103T020000
TZOFFSETFROM:-0400
TZOFFSETTO:-0500
RDATE:20201101T020000
RDATE:20211107T020000
END:STANDARD
BEGIN:DAYLIGHT
TZNAME:EDT
DTSTART:20200308T020000
TZOFFSETFROM:-0500
TZOFFSETTO:-0400
RDATE:20210314T020000
RDATE:20220313T020000
END:DAYLIGHT
END:VTIMEZONE
BEGIN:VEVENT
UID:f2f68e8a-97c7-47c7-8707-7e4a141e1eb9
DTSTAMP:20260426T042750Z
DESCRIPTION:Join Zoom Meeting\nhttps://us02web.zoom.us/j/86062191742\n\nMee
 ting ID: 860 6219 1742\nOne tap mobile\n+16465588656\,\,86062191742# US (N
 ew York)\n+13017158592\,\,86062191742# US (Germantown)\n\nDial by your loc
 ation\n        +1 646 558 8656 US (New York)\n        +1 301 715 8592 US (
 Germantown)\n        +1 312 626 6799 US (Chicago)\n        +1 669 900 9128
  US (San Jose)\n        +1 253 215 8782 US (Tacoma)\n        +1 346 248 77
 99 US (Houston)\nMeeting ID: 860 6219 1742\nFind your local number: https:
 //us02web.zoom.us/u/kdz57iMaVF\n
DTSTART;TZID=America/New_York:20201030T120000
DTEND;TZID=America/New_York:20201030T123000
LOCATION:Zoom Meeting
SUMMARY:Finance Committee Meeting
END:VEVENT
END:VCALENDAR
