BEGIN:VCALENDAR
VERSION:2.0
PRODID:-//www.charitablehealthcarenetwork.org//NONSGML kigkonsult.se iCalcr
 eator 2.30.10//
CALSCALE:GREGORIAN
METHOD:PUBLISH
UID:b9e21e92-0040-47b6-9537-2bbfd4b70638
X-WR-CALDESC:\nTopic: Nominating Committee Meeting\nTime: Nov 6\, 2020 11:0
 0 AM Eastern Time (US and Canada)\n\nJoin Zoom Meeting\nhttps://us02web.zo
 om.us/j/85778086043\n\nMeeting ID: 857 7808 6043\nOne tap mobile\n+1312626
 6799\,\,85778086043# US (Chicago)\n+16465588656\,\,85778086043# US (New Yo
 rk)\n\nDial by your location\n        +1 312 626 6799 US (Chicago)\n      
   +1 646 558 8656 US (New York)\n        +1 301 715 8592 US (Germantown)\n
         +1 346 248 7799 US (Houston)\n        +1 669 900 9128 US (San Jose
 )\n        +1 253 215 8782 US (Tacoma)\nMeeting ID: 857 7808 6043\nFind yo
 ur local number: https://us02web.zoom.us/u/kciF4r0cve\n\n
X-WR-RELCALID:722288463297883dd416c8c0603d0a45
X-WR-TIMEZONE:America/New_York
BEGIN:VTIMEZONE
TZID:America/New_York
BEGIN:STANDARD
TZNAME:EST
DTSTART:20201101T020000
TZOFFSETFROM:-0400
TZOFFSETTO:-0500
RDATE:20211107T020000
END:STANDARD
BEGIN:DAYLIGHT
TZNAME:EDT
DTSTART:20200308T020000
TZOFFSETFROM:-0500
TZOFFSETTO:-0400
RDATE:20210314T020000
RDATE:20220313T020000
END:DAYLIGHT
END:VTIMEZONE
BEGIN:VEVENT
UID:d24e90f7-fec2-4950-a006-99078dc50c8a
DTSTAMP:20260426T031102Z
DESCRIPTION:\nTopic: Nominating Committee Meeting\nTime: Nov 6\, 2020 11:00
  AM Eastern Time (US and Canada)\n\nJoin Zoom Meeting\nhttps://us02web.zoo
 m.us/j/85778086043\n\nMeeting ID: 857 7808 6043\nOne tap mobile\n+13126266
 799\,\,85778086043# US (Chicago)\n+16465588656\,\,85778086043# US (New Yor
 k)\n\nDial by your location\n        +1 312 626 6799 US (Chicago)\n       
  +1 646 558 8656 US (New York)\n        +1 301 715 8592 US (Germantown)\n 
        +1 346 248 7799 US (Houston)\n        +1 669 900 9128 US (San Jose)
 \n        +1 253 215 8782 US (Tacoma)\nMeeting ID: 857 7808 6043\nFind you
 r local number: https://us02web.zoom.us/u/kciF4r0cve\n\n
DTSTART;TZID=America/New_York:20201106T110000
DTEND;TZID=America/New_York:20201106T120000
LOCATION:Zoom Meeting
SUMMARY:Nominating Committee Meeting
END:VEVENT
END:VCALENDAR
