BEGIN:VCALENDAR
VERSION:2.0
PRODID:-//www.charitablehealthcarenetwork.org//NONSGML kigkonsult.se iCalcr
 eator 2.30.10//
CALSCALE:GREGORIAN
METHOD:PUBLISH
UID:4fd3519b-8c80-4c76-9ff0-e6d0161d4fe6
X-WR-CALDESC:
X-WR-RELCALID:410db9f783831d26a92494ad5a321bc4
X-WR-TIMEZONE:America/New_York
BEGIN:VTIMEZONE
TZID:America/New_York
BEGIN:STANDARD
TZNAME:EST
DTSTART:20201101T020000
TZOFFSETFROM:-0400
TZOFFSETTO:-0500
RDATE:20211107T020000
END:STANDARD
BEGIN:DAYLIGHT
TZNAME:EDT
DTSTART:20200308T020000
TZOFFSETFROM:-0500
TZOFFSETTO:-0400
RDATE:20210314T020000
RDATE:20220313T020000
END:DAYLIGHT
END:VTIMEZONE
BEGIN:VEVENT
UID:7f36bcea-b490-4376-b301-f9ad1d81d0d1
DTSTAMP:20260426T031549Z
DESCRIPTION:
DTSTART;TZID=America/New_York:20201120T120000
DTEND;TZID=America/New_York:20201120T123000
LOCATION:Zoom Meeting
SUMMARY:Finance Committee Meeting
END:VEVENT
END:VCALENDAR
