BEGIN:VCALENDAR
VERSION:2.0
PRODID:-//www.charitablehealthcarenetwork.org//NONSGML kigkonsult.se iCalcr
 eator 2.30.10//
CALSCALE:GREGORIAN
METHOD:PUBLISH
UID:bf098b63-d556-4ca3-ba90-51ff21747069
X-WR-CALDESC:\nTopic: November Board Meeting\nTime: Nov 20\, 2020 10:00 AM 
 Eastern Time (US and Canada)\n\nJoin Zoom Meeting\nhttps://us02web.zoom.us
 /j/87806790525\n\nMeeting ID: 878 0679 0525\nOne tap mobile\n+13017158592\
 ,\,87806790525# US (Washington D.C)\n+13126266799\,\,87806790525# US (Chic
 ago)\n\nDial by your location\n        +1 301 715 8592 US (Washington D.C)
 \n        +1 312 626 6799 US (Chicago)\n        +1 646 558 8656 US (New Yo
 rk)\n        +1 253 215 8782 US (Tacoma)\n        +1 346 248 7799 US (Hous
 ton)\n        +1 669 900 9128 US (San Jose)\nMeeting ID: 878 0679 0525\nFi
 nd your local number: https://us02web.zoom.us/u/kba2Yu3mv9\n\n
X-WR-RELCALID:a1d0cd84be59099380aeaf5ec3297201
X-WR-TIMEZONE:America/New_York
BEGIN:VTIMEZONE
TZID:America/New_York
BEGIN:STANDARD
TZNAME:EST
DTSTART:20201101T020000
TZOFFSETFROM:-0400
TZOFFSETTO:-0500
RDATE:20211107T020000
END:STANDARD
BEGIN:DAYLIGHT
TZNAME:EDT
DTSTART:20200308T020000
TZOFFSETFROM:-0500
TZOFFSETTO:-0400
RDATE:20210314T020000
RDATE:20220313T020000
END:DAYLIGHT
END:VTIMEZONE
BEGIN:VEVENT
UID:f44cae56-cb4a-4fdb-81e7-a606674cabbe
DTSTAMP:20260426T031318Z
DESCRIPTION:\nTopic: November Board Meeting\nTime: Nov 20\, 2020 10:00 AM E
 astern Time (US and Canada)\n\nJoin Zoom Meeting\nhttps://us02web.zoom.us/
 j/87806790525\n\nMeeting ID: 878 0679 0525\nOne tap mobile\n+13017158592\,
 \,87806790525# US (Washington D.C)\n+13126266799\,\,87806790525# US (Chica
 go)\n\nDial by your location\n        +1 301 715 8592 US (Washington D.C)
 \n        +1 312 626 6799 US (Chicago)\n        +1 646 558 8656 US (New Yo
 rk)\n        +1 253 215 8782 US (Tacoma)\n        +1 346 248 7799 US (Hous
 ton)\n        +1 669 900 9128 US (San Jose)\nMeeting ID: 878 0679 0525\nFi
 nd your local number: https://us02web.zoom.us/u/kba2Yu3mv9\n\n
DTSTART;TZID=America/New_York:20201120T100000
DTEND;TZID=America/New_York:20201120T140000
LOCATION:via Zoom meeting
SUMMARY:CHN Board Meeting
END:VEVENT
END:VCALENDAR
