BEGIN:VCALENDAR
VERSION:2.0
PRODID:-//www.charitablehealthcarenetwork.org//NONSGML kigkonsult.se iCalcr
 eator 2.30.10//
CALSCALE:GREGORIAN
METHOD:PUBLISH
UID:b2e4a3e0-4754-42a2-9a58-802756e87287
X-WR-CALDESC:Office closed in celebration of Thanksgiving.
X-WR-RELCALID:23a14cb80b1193d3d559a0496a2e7209
X-WR-TIMEZONE:America/New_York
BEGIN:VTIMEZONE
TZID:America/New_York
BEGIN:STANDARD
TZNAME:EST
DTSTART:20201101T020000
TZOFFSETFROM:-0400
TZOFFSETTO:-0500
RDATE:20211107T020000
END:STANDARD
BEGIN:DAYLIGHT
TZNAME:EDT
DTSTART:20200308T020000
TZOFFSETFROM:-0500
TZOFFSETTO:-0400
RDATE:20210314T020000
RDATE:20220313T020000
END:DAYLIGHT
END:VTIMEZONE
BEGIN:VEVENT
UID:9369d261-957e-4fa3-b6bb-ca9a94ccac36
DTSTAMP:20260426T031134Z
DESCRIPTION:Office closed in celebration of Thanksgiving.
DTSTART;TZID=America/New_York:20201126T000000
DTEND;TZID=America/New_York:20201127T235900
LOCATION:
SUMMARY:CHN Office Closed
END:VEVENT
END:VCALENDAR
