BEGIN:VCALENDAR
VERSION:2.0
PRODID:-//www.charitablehealthcarenetwork.org//NONSGML kigkonsult.se iCalcr
 eator 2.30.10//
CALSCALE:GREGORIAN
METHOD:PUBLISH
UID:04e6afeb-b483-4cc3-b345-d9573e1ed43e
X-WR-CALDESC:
X-WR-RELCALID:d35cf115c2c27151e6d5664138bac7e5
X-WR-TIMEZONE:America/New_York
BEGIN:VTIMEZONE
TZID:America/New_York
BEGIN:STANDARD
TZNAME:EST
DTSTART:20201101T020000
TZOFFSETFROM:-0400
TZOFFSETTO:-0500
RDATE:20211107T020000
END:STANDARD
BEGIN:DAYLIGHT
TZNAME:EDT
DTSTART:20200308T020000
TZOFFSETFROM:-0500
TZOFFSETTO:-0400
RDATE:20210314T020000
RDATE:20220313T020000
END:DAYLIGHT
END:VTIMEZONE
BEGIN:VEVENT
UID:f5a6c165-01b9-45a8-ae53-50bd5d0ffcf6
DTSTAMP:20260426T031746Z
DESCRIPTION:
DTSTART;TZID=America/New_York:20201126T000000
DTEND;TZID=America/New_York:20201126T235900
LOCATION:
SUMMARY:Thanksgiving Day
END:VEVENT
END:VCALENDAR
