BEGIN:VCALENDAR
VERSION:2.0
PRODID:-//www.charitablehealthcarenetwork.org//NONSGML kigkonsult.se iCalcr
 eator 2.30.10//
CALSCALE:GREGORIAN
METHOD:PUBLISH
UID:5ff83e80-05d0-4681-9391-5dd0d457d81c
X-WR-CALDESC:
X-WR-RELCALID:20f309251d1dbbb040d9d311cbcf8798
X-WR-TIMEZONE:America/New_York
BEGIN:VTIMEZONE
TZID:America/New_York
BEGIN:STANDARD
TZNAME:EST
DTSTART:20201101T020000
TZOFFSETFROM:-0400
TZOFFSETTO:-0500
RDATE:20211107T020000
END:STANDARD
BEGIN:DAYLIGHT
TZNAME:EDT
DTSTART:20200308T020000
TZOFFSETFROM:-0500
TZOFFSETTO:-0400
RDATE:20210314T020000
RDATE:20220313T020000
END:DAYLIGHT
END:VTIMEZONE
BEGIN:VEVENT
UID:487154dc-62be-4601-8482-64007da95a2e
DTSTAMP:20260426T015742Z
DESCRIPTION:
DTSTART;TZID=America/New_York:20201210T093000
DTEND;TZID=America/New_York:20201210T103000
LOCATION:
SUMMARY:Education Committee Meeting
END:VEVENT
END:VCALENDAR
