BEGIN:VCALENDAR
VERSION:2.0
PRODID:-//www.charitablehealthcarenetwork.org//NONSGML kigkonsult.se iCalcr
 eator 2.30.10//
CALSCALE:GREGORIAN
METHOD:PUBLISH
UID:8956f83d-6b2b-47f9-bf3b-83b3a2a14333
X-WR-CALDESC:
X-WR-RELCALID:7a72f13fd0bcf04e011f14151bb9590b
X-WR-TIMEZONE:America/New_York
BEGIN:VTIMEZONE
TZID:America/New_York
BEGIN:STANDARD
TZNAME:EST
DTSTART:20201101T020000
TZOFFSETFROM:-0400
TZOFFSETTO:-0500
RDATE:20211107T020000
END:STANDARD
BEGIN:DAYLIGHT
TZNAME:EDT
DTSTART:20200308T020000
TZOFFSETFROM:-0500
TZOFFSETTO:-0400
RDATE:20210314T020000
RDATE:20220313T020000
END:DAYLIGHT
END:VTIMEZONE
BEGIN:VEVENT
UID:72d2c88d-814d-41a1-b11c-799edd6c75ad
DTSTAMP:20260426T015344Z
DESCRIPTION:
DTSTART;TZID=America/New_York:20201211T080000
DTEND;TZID=America/New_York:20201211T090000
LOCATION:Committee Members: please contact Christianna for Zoom link and lo
 gin information.
SUMMARY:UCF Distribution Committee Meeting
END:VEVENT
END:VCALENDAR
