BEGIN:VCALENDAR
VERSION:2.0
PRODID:-//www.charitablehealthcarenetwork.org//NONSGML kigkonsult.se iCalcr
 eator 2.30.10//
CALSCALE:GREGORIAN
METHOD:PUBLISH
UID:4aff349d-4c2b-4959-a8c7-0808c252b042
X-WR-CALDESC:Deborah Miller is inviting you to a scheduled Zoom meeting.\n
 \nTopic: Finance Committee Meeting\nTime: Dec 18\, 2020 12:00 PM Eastern T
 ime (US and Canada)\n        Every month on the Third Fri\, until Dec 17\,
  2021\, 13 occurrence(s)\n        Dec 18\, 2020 12:00 PM\n        Jan 15\,
  2021 12:00 PM\n        Feb 19\, 2021 12:00 PM\n        Mar 19\, 2021 12:0
 0 PM\n        Apr 16\, 2021 12:00 PM\n        May 21\, 2021 12:00 PM\n    
     Jun 18\, 2021 12:00 PM\n        Jul 16\, 2021 12:00 PM\n        Aug 20
 \, 2021 12:00 PM\n        Sep 17\, 2021 12:00 PM\n        Oct 15\, 2021 12
 :00 PM\n        Nov 19\, 2021 12:00 PM\n        Dec 17\, 2021 12:00 PM\nPl
 ease download and import the following iCalendar (.ics) files to your cale
 ndar system.\nMonthly: https://us02web.zoom.us/meeting/tZcvduitqDoqH9xAj8l
 9fIIAiDwioitDpGU2/ics?icsToken=98tyKuGrrDorH9KUsByPRpwqAIj4d-_wpn5fgvpFvRW
 9D3lVSyrXP8ZVO712BPzA\n\nJoin Zoom Meeting\nhttps://us02web.zoom.us/j/8321
 1561058\n\nMeeting ID: 832 1156 1058\nOne tap mobile\n+16465588656\,\,8321
 1561058# US (New York)\n+13017158592\,\,83211561058# US (Washington D.C)\n
 \nDial by your location\n        +1 646 558 8656 US (New York)\n        +1
  301 715 8592 US (Washington D.C)\n        +1 312 626 6799 US (Chicago)\n 
        +1 669 900 9128 US (San Jose)\n        +1 253 215 8782 US (Tacoma)
 \n        +1 346 248 7799 US (Houston)\nMeeting ID: 832 1156 1058\nFind yo
 ur local number: https://us02web.zoom.us/u/kJAqRhZa2\n\n
X-WR-RELCALID:7f00c2cbe990241d807adefef765a6bb
X-WR-TIMEZONE:America/New_York
BEGIN:VTIMEZONE
TZID:America/New_York
BEGIN:STANDARD
TZNAME:EST
DTSTART:20201101T020000
TZOFFSETFROM:-0400
TZOFFSETTO:-0500
RDATE:20211107T020000
END:STANDARD
BEGIN:DAYLIGHT
TZNAME:EDT
DTSTART:20200308T020000
TZOFFSETFROM:-0500
TZOFFSETTO:-0400
RDATE:20210314T020000
RDATE:20220313T020000
END:DAYLIGHT
END:VTIMEZONE
BEGIN:VEVENT
UID:a04c5822-925d-40f8-85a1-388bcf87133c
DTSTAMP:20260426T015221Z
DESCRIPTION:Deborah Miller is inviting you to a scheduled Zoom meeting.\n\n
 Topic: Finance Committee Meeting\nTime: Dec 18\, 2020 12:00 PM Eastern Tim
 e (US and Canada)\n        Every month on the Third Fri\, until Dec 17\, 2
 021\, 13 occurrence(s)\n        Dec 18\, 2020 12:00 PM\n        Jan 15\, 2
 021 12:00 PM\n        Feb 19\, 2021 12:00 PM\n        Mar 19\, 2021 12:00 
 PM\n        Apr 16\, 2021 12:00 PM\n        May 21\, 2021 12:00 PM\n      
   Jun 18\, 2021 12:00 PM\n        Jul 16\, 2021 12:00 PM\n        Aug 20\,
  2021 12:00 PM\n        Sep 17\, 2021 12:00 PM\n        Oct 15\, 2021 12:0
 0 PM\n        Nov 19\, 2021 12:00 PM\n        Dec 17\, 2021 12:00 PM\nPlea
 se download and import the following iCalendar (.ics) files to your calend
 ar system.\nMonthly: https://us02web.zoom.us/meeting/tZcvduitqDoqH9xAj8l9f
 IIAiDwioitDpGU2/ics?icsToken=98tyKuGrrDorH9KUsByPRpwqAIj4d-_wpn5fgvpFvRW9D
 3lVSyrXP8ZVO712BPzA\n\nJoin Zoom Meeting\nhttps://us02web.zoom.us/j/832115
 61058\n\nMeeting ID: 832 1156 1058\nOne tap mobile\n+16465588656\,\,832115
 61058# US (New York)\n+13017158592\,\,83211561058# US (Washington D.C)\n\n
 Dial by your location\n        +1 646 558 8656 US (New York)\n        +1 3
 01 715 8592 US (Washington D.C)\n        +1 312 626 6799 US (Chicago)\n   
      +1 669 900 9128 US (San Jose)\n        +1 253 215 8782 US (Tacoma)\n 
        +1 346 248 7799 US (Houston)\nMeeting ID: 832 1156 1058\nFind your 
 local number: https://us02web.zoom.us/u/kJAqRhZa2\n\n
DTSTART;TZID=America/New_York:20201218T120000
DTEND;TZID=America/New_York:20201218T123000
LOCATION:Zoom Meeting
SUMMARY:Finance Committee Meeting
END:VEVENT
END:VCALENDAR
