BEGIN:VCALENDAR
VERSION:2.0
PRODID:-//www.charitablehealthcarenetwork.org//NONSGML kigkonsult.se iCalcr
 eator 2.30.10//
CALSCALE:GREGORIAN
METHOD:PUBLISH
UID:bce49dc5-99e5-4bfd-b986-37c7427d6d2f
X-WR-CALDESC:The office will close at noon to celebrate the holiday
X-WR-RELCALID:e0117e30a31d71261cd990e20325d953
X-WR-TIMEZONE:America/New_York
BEGIN:VTIMEZONE
TZID:America/New_York
BEGIN:STANDARD
TZNAME:EST
DTSTART:20201101T020000
TZOFFSETFROM:-0400
TZOFFSETTO:-0500
RDATE:20211107T020000
END:STANDARD
BEGIN:DAYLIGHT
TZNAME:EDT
DTSTART:20200308T020000
TZOFFSETFROM:-0500
TZOFFSETTO:-0400
RDATE:20210314T020000
RDATE:20220313T020000
END:DAYLIGHT
END:VTIMEZONE
BEGIN:VEVENT
UID:26606653-4083-4c49-9589-d3bd8c538717
DTSTAMP:20260426T015344Z
DESCRIPTION:The office will close at noon to celebrate the holiday
DTSTART;TZID=America/New_York:20201224T000000
DTEND;TZID=America/New_York:20201224T235900
LOCATION:
SUMMARY:Office Closed at noon
END:VEVENT
END:VCALENDAR
