BEGIN:VCALENDAR
VERSION:2.0
PRODID:-//www.charitablehealthcarenetwork.org//NONSGML kigkonsult.se iCalcr
 eator 2.30.10//
CALSCALE:GREGORIAN
METHOD:PUBLISH
UID:a98d3af5-205e-45d4-92a1-360489cb2002
X-WR-CALDESC:Closed for the holiday
X-WR-RELCALID:8dc9d91bb2831e4536666d48afb619ac
X-WR-TIMEZONE:America/New_York
BEGIN:VTIMEZONE
TZID:America/New_York
BEGIN:STANDARD
TZNAME:EST
DTSTART:20201101T020000
TZOFFSETFROM:-0400
TZOFFSETTO:-0500
RDATE:20211107T020000
END:STANDARD
BEGIN:DAYLIGHT
TZNAME:EDT
DTSTART:20200308T020000
TZOFFSETFROM:-0500
TZOFFSETTO:-0400
RDATE:20210314T020000
RDATE:20220313T020000
END:DAYLIGHT
END:VTIMEZONE
BEGIN:VEVENT
UID:3fc2cb89-512a-4afc-b813-4f3a578ea430
DTSTAMP:20260426T015506Z
DESCRIPTION:Closed for the holiday
DTSTART;TZID=America/New_York:20201225T000000
DTEND;TZID=America/New_York:20201225T235900
LOCATION:
SUMMARY:CHN Closed
END:VEVENT
END:VCALENDAR
