BEGIN:VCALENDAR
VERSION:2.0
PRODID:-//www.charitablehealthcarenetwork.org//NONSGML kigkonsult.se iCalcr
 eator 2.30.10//
CALSCALE:GREGORIAN
METHOD:PUBLISH
UID:da3f5f5d-6b28-408b-bcfd-c805bca194df
X-WR-CALDESC:
X-WR-RELCALID:86fc9cc7e39f3bd6daf45479348e6b13
X-WR-TIMEZONE:America/New_York
BEGIN:VTIMEZONE
TZID:America/New_York
BEGIN:STANDARD
TZNAME:EST
DTSTART:20201101T020000
TZOFFSETFROM:-0400
TZOFFSETTO:-0500
RDATE:20211107T020000
END:STANDARD
BEGIN:DAYLIGHT
TZNAME:EDT
DTSTART:20200308T020000
TZOFFSETFROM:-0500
TZOFFSETTO:-0400
RDATE:20210314T020000
RDATE:20220313T020000
END:DAYLIGHT
END:VTIMEZONE
BEGIN:VEVENT
UID:b6f7788d-92b8-4c8a-842e-775f81e0933f
DTSTAMP:20260426T015517Z
DESCRIPTION:
DTSTART;TZID=America/New_York:20201225T000000
DTEND;TZID=America/New_York:20201225T235900
LOCATION:
SUMMARY:Merry Christmas!
END:VEVENT
END:VCALENDAR
