BEGIN:VCALENDAR
VERSION:2.0
PRODID:-//www.charitablehealthcarenetwork.org//NONSGML kigkonsult.se iCalcr
 eator 2.30.10//
CALSCALE:GREGORIAN
METHOD:PUBLISH
UID:ecfbd7f3-a975-473e-a5d1-fa349669af1a
X-WR-CALDESC:
X-WR-RELCALID:5c11ee35bd1590f304a4f34c192c0157
X-WR-TIMEZONE:America/New_York
BEGIN:VTIMEZONE
TZID:America/New_York
BEGIN:STANDARD
TZNAME:EST
DTSTART:20201101T020000
TZOFFSETFROM:-0400
TZOFFSETTO:-0500
RDATE:20211107T020000
END:STANDARD
BEGIN:DAYLIGHT
TZNAME:EDT
DTSTART:20200308T020000
TZOFFSETFROM:-0500
TZOFFSETTO:-0400
RDATE:20210314T020000
RDATE:20220313T020000
END:DAYLIGHT
END:VTIMEZONE
BEGIN:VEVENT
UID:04e41eab-7651-45bc-8b87-c67d2ee0f182
DTSTAMP:20260426T003922Z
DESCRIPTION:
DTSTART;TZID=America/New_York:20210108T070000
DTEND;TZID=America/New_York:20210108T080000
LOCATION:Committee Members: please contact Christianna for Zoom link and lo
 gin information.
SUMMARY:UCF Distribution Committee Meeting
END:VEVENT
END:VCALENDAR
