BEGIN:VCALENDAR
VERSION:2.0
PRODID:-//www.charitablehealthcarenetwork.org//NONSGML kigkonsult.se iCalcr
 eator 2.30.10//
CALSCALE:GREGORIAN
METHOD:PUBLISH
UID:649c8db0-1c31-4ab5-80a0-6b94006a0efb
X-WR-CALDESC:Deborah Miller is inviting you to a scheduled Zoom meeting.\n
 \nTopic: Finance Committee Meeting\nTime: Dec 18\, 2020 12:00 PM Eastern T
 ime (US and Canada)\n        \nPlease download and import the following iC
 alendar (.ics) files to your calendar system.\nMonthly: https://us02web.zo
 om.us/meeting/tZcvduitqDoqH9xAj8l9fIIAiDwioitDpGU2/ics?icsToken=98tyKuGrrD
 orH9KUsByPRpwqAIj4d-_wpn5fgvpFvRW9D3lVSyrXP8ZVO712BPzA\n\nJoin Zoom Meetin
 g\nhttps://us02web.zoom.us/j/83211561058\n\nMeeting ID: 832 1156 1058\nOne
  tap mobile\n+16465588656\,\,83211561058# US (New York)\n+13017158592\,\,8
 3211561058# US (Washington D.C)\n\nDial by your location\n        +1 646 5
 58 8656 US (New York)\n        +1 301 715 8592 US (Washington D.C)\n      
   +1 312 626 6799 US (Chicago)\n        +1 669 900 9128 US (San Jose)\n   
      +1 253 215 8782 US (Tacoma)\n        +1 346 248 7799 US (Houston)\nMe
 eting ID: 832 1156 1058\nFind your local number: https://us02web.zoom.us/u
 /kJAqRhZa2\n\n
X-WR-RELCALID:478137ba1e4a0a8426aea3af6b778694
X-WR-TIMEZONE:America/New_York
BEGIN:VTIMEZONE
TZID:America/New_York
BEGIN:STANDARD
TZNAME:EST
DTSTART:20201101T020000
TZOFFSETFROM:-0400
TZOFFSETTO:-0500
RDATE:20211107T020000
END:STANDARD
BEGIN:DAYLIGHT
TZNAME:EDT
DTSTART:20200308T020000
TZOFFSETFROM:-0500
TZOFFSETTO:-0400
RDATE:20210314T020000
RDATE:20220313T020000
END:DAYLIGHT
END:VTIMEZONE
BEGIN:VEVENT
UID:8603937b-1581-4e7d-91a6-83f1bcae3860
DTSTAMP:20260426T004716Z
DESCRIPTION:Deborah Miller is inviting you to a scheduled Zoom meeting.\n\n
 Topic: Finance Committee Meeting\nTime: Dec 18\, 2020 12:00 PM Eastern Tim
 e (US and Canada)\n        \nPlease download and import the following iCal
 endar (.ics) files to your calendar system.\nMonthly: https://us02web.zoom
 .us/meeting/tZcvduitqDoqH9xAj8l9fIIAiDwioitDpGU2/ics?icsToken=98tyKuGrrDor
 H9KUsByPRpwqAIj4d-_wpn5fgvpFvRW9D3lVSyrXP8ZVO712BPzA\n\nJoin Zoom Meeting
 \nhttps://us02web.zoom.us/j/83211561058\n\nMeeting ID: 832 1156 1058\nOne 
 tap mobile\n+16465588656\,\,83211561058# US (New York)\n+13017158592\,\,83
 211561058# US (Washington D.C)\n\nDial by your location\n        +1 646 55
 8 8656 US (New York)\n        +1 301 715 8592 US (Washington D.C)\n       
  +1 312 626 6799 US (Chicago)\n        +1 669 900 9128 US (San Jose)\n    
     +1 253 215 8782 US (Tacoma)\n        +1 346 248 7799 US (Houston)\nMee
 ting ID: 832 1156 1058\nFind your local number: https://us02web.zoom.us/u/
 kJAqRhZa2\n\n
DTSTART;TZID=America/New_York:20210115T120000
DTEND;TZID=America/New_York:20210115T123000
LOCATION:Zoom Meeting
SUMMARY:Finance Committee
END:VEVENT
END:VCALENDAR
