BEGIN:VCALENDAR
VERSION:2.0
PRODID:-//www.charitablehealthcarenetwork.org//NONSGML kigkonsult.se iCalcr
 eator 2.30.10//
CALSCALE:GREGORIAN
METHOD:PUBLISH
UID:82266b2b-9d5f-4bdd-aebf-1e4b59fa79f8
X-WR-CALDESC:Annual Survey (1/1/20-12/31/20) due. All members must submit t
 heir surveys in order to maintain status as members in good standing.
X-WR-RELCALID:1f65cd08236a253cb64f59be6fedcde6
X-WR-TIMEZONE:America/New_York
BEGIN:VTIMEZONE
TZID:America/New_York
BEGIN:STANDARD
TZNAME:EST
DTSTART:20201101T020000
TZOFFSETFROM:-0400
TZOFFSETTO:-0500
RDATE:20211107T020000
END:STANDARD
BEGIN:DAYLIGHT
TZNAME:EDT
DTSTART:20200308T020000
TZOFFSETFROM:-0500
TZOFFSETTO:-0400
RDATE:20210314T020000
RDATE:20220313T020000
END:DAYLIGHT
END:VTIMEZONE
BEGIN:VEVENT
UID:61c1a084-bde2-42e8-b73a-e5a1c410e3bf
DTSTAMP:20260426T004503Z
DESCRIPTION:Annual Survey (1/1/20-12/31/20) due. All members must submit th
 eir surveys in order to maintain status as members in good standing.
DTSTART;TZID=America/New_York:20210115T000000
DTEND;TZID=America/New_York:20210115T235900
LOCATION:
SUMMARY:Annual Survey Due
END:VEVENT
END:VCALENDAR
