BEGIN:VCALENDAR
VERSION:2.0
PRODID:-//www.charitablehealthcarenetwork.org//NONSGML kigkonsult.se iCalcr
 eator 2.30.10//
CALSCALE:GREGORIAN
METHOD:PUBLISH
UID:e92a08be-de2a-40e0-8e93-5c697a444d84
X-WR-CALDESC:Q2 Report (October 1\, 2020 - December 31\, 2020) for 2020/21 
 UCF Direct Services Due.
X-WR-RELCALID:62cccea39c260d0397be93d82b9f408f
X-WR-TIMEZONE:America/New_York
BEGIN:VTIMEZONE
TZID:America/New_York
BEGIN:STANDARD
TZNAME:EST
DTSTART:20201101T020000
TZOFFSETFROM:-0400
TZOFFSETTO:-0500
RDATE:20211107T020000
END:STANDARD
BEGIN:DAYLIGHT
TZNAME:EDT
DTSTART:20200308T020000
TZOFFSETFROM:-0500
TZOFFSETTO:-0400
RDATE:20210314T020000
RDATE:20220313T020000
END:DAYLIGHT
END:VTIMEZONE
BEGIN:VEVENT
UID:8dd13cb1-fd7c-4db9-bb1b-1823fd07d34e
DTSTAMP:20260426T004401Z
DESCRIPTION:Q2 Report (October 1\, 2020 - December 31\, 2020) for 2020/21 U
 CF Direct Services Due.
DTSTART;TZID=America/New_York:20210115T000000
DTEND;TZID=America/New_York:20210115T235900
LOCATION:
SUMMARY:UCF Direct Services: Q2 Report Due
END:VEVENT
END:VCALENDAR
