BEGIN:VCALENDAR
VERSION:2.0
PRODID:-//www.charitablehealthcarenetwork.org//NONSGML kigkonsult.se iCalcr
 eator 2.30.10//
CALSCALE:GREGORIAN
METHOD:PUBLISH
UID:48e41842-8a43-4776-98a4-c95cfde395ab
X-WR-CALDESC:
X-WR-RELCALID:5888b5f633925581799cbae8310beaf6
X-WR-TIMEZONE:America/New_York
BEGIN:VTIMEZONE
TZID:America/New_York
BEGIN:STANDARD
TZNAME:EST
DTSTART:20201101T020000
TZOFFSETFROM:-0400
TZOFFSETTO:-0500
RDATE:20211107T020000
END:STANDARD
BEGIN:DAYLIGHT
TZNAME:EDT
DTSTART:20200308T020000
TZOFFSETFROM:-0500
TZOFFSETTO:-0400
RDATE:20210314T020000
RDATE:20220313T020000
END:DAYLIGHT
END:VTIMEZONE
BEGIN:VEVENT
UID:93055f2a-f3db-4fc4-8615-5fefb8599bb5
DTSTAMP:20260426T005556Z
DESCRIPTION:
DTSTART;TZID=America/New_York:20210122T120000
DTEND;TZID=America/New_York:20210122T140000
LOCATION:https://us02web.zoom.us/j/86202773761?pwd=Uzl5cjNGMWZLamRpZ1J0ZDJl
 blF0QT09
SUMMARY:CHN Board Meeting
END:VEVENT
END:VCALENDAR
