BEGIN:VCALENDAR
VERSION:2.0
PRODID:-//www.charitablehealthcarenetwork.org//NONSGML kigkonsult.se iCalcr
 eator 2.30.10//
CALSCALE:GREGORIAN
METHOD:PUBLISH
UID:edc36969-1080-4151-b681-139897e90cce
X-WR-CALDESC:\nEnter by the loading dock in the rear of the building\n
X-WR-RELCALID:6bdedbc8e30c1875a18969da12a22ecc
X-WR-TIMEZONE:America/New_York
BEGIN:VTIMEZONE
TZID:America/New_York
BEGIN:STANDARD
TZNAME:EST
DTSTART:20201101T020000
TZOFFSETFROM:-0400
TZOFFSETTO:-0500
RDATE:20211107T020000
END:STANDARD
BEGIN:DAYLIGHT
TZNAME:EDT
DTSTART:20200308T020000
TZOFFSETFROM:-0500
TZOFFSETTO:-0400
RDATE:20210314T020000
RDATE:20220313T020000
END:DAYLIGHT
END:VTIMEZONE
BEGIN:VEVENT
UID:0ec025ae-ffe1-4158-a31d-5749ab2d5bf9
DTSTAMP:20260426T003840Z
DESCRIPTION:\nEnter by the loading dock in the rear of the building\n
DTSTART;TZID=America/New_York:20210127T110000
DTEND;TZID=America/New_York:20210127T163000
LOCATION:7600 Olde Eight Road\, Hudson\, OH 44236 US
SUMMARY:Medical Supply Pick Up
END:VEVENT
END:VCALENDAR
