BEGIN:VCALENDAR
VERSION:2.0
PRODID:-//www.charitablehealthcarenetwork.org//NONSGML kigkonsult.se iCalcr
 eator 2.30.10//
CALSCALE:GREGORIAN
METHOD:PUBLISH
UID:70e11f0a-f180-47f4-94f0-40614eec65eb
X-WR-CALDESC:Deborah Miller is inviting you to a scheduled Zoom meeting.\n
 \nTopic: Nominating Committee Meeting\nTime: Feb 5\, 2021 11:00 AM Eastern
  Time (US and Canada)\n\nJoin Zoom Meeting\nhttps://us02web.zoom.us/j/6148
 693412\n\nMeeting ID: 614 869 3412\nOne tap mobile\n+13126266799\,\,614869
 3412# US (Chicago)\n+16465588656\,\,6148693412# US (New York)\n\nDial by y
 our location\n        +1 312 626 6799 US (Chicago)\n        +1 646 558 865
 6 US (New York)\n        +1 301 715 8592 US (Washington D.C)\n        +1 3
 46 248 7799 US (Houston)\n        +1 669 900 9128 US (San Jose)\n        +
 1 253 215 8782 US (Tacoma)\nMeeting ID: 614 869 3412\nFind your local numb
 er: https://us02web.zoom.us/u/kbfRZ93suh\n\n
X-WR-RELCALID:9b9fa8af7bb1cb3e29885bf533613c30
X-WR-TIMEZONE:America/New_York
BEGIN:VTIMEZONE
TZID:America/New_York
BEGIN:STANDARD
TZNAME:EST
DTSTART:20201101T020000
TZOFFSETFROM:-0400
TZOFFSETTO:-0500
RDATE:20211107T020000
END:STANDARD
BEGIN:DAYLIGHT
TZNAME:EDT
DTSTART:20200308T020000
TZOFFSETFROM:-0500
TZOFFSETTO:-0400
RDATE:20210314T020000
RDATE:20220313T020000
END:DAYLIGHT
END:VTIMEZONE
BEGIN:VEVENT
UID:b34b8ff8-bdc0-4c55-828f-acb1e50dc54e
DTSTAMP:20260425T233416Z
DESCRIPTION:Deborah Miller is inviting you to a scheduled Zoom meeting.\n\n
 Topic: Nominating Committee Meeting\nTime: Feb 5\, 2021 11:00 AM Eastern T
 ime (US and Canada)\n\nJoin Zoom Meeting\nhttps://us02web.zoom.us/j/614869
 3412\n\nMeeting ID: 614 869 3412\nOne tap mobile\n+13126266799\,\,61486934
 12# US (Chicago)\n+16465588656\,\,6148693412# US (New York)\n\nDial by you
 r location\n        +1 312 626 6799 US (Chicago)\n        +1 646 558 8656 
 US (New York)\n        +1 301 715 8592 US (Washington D.C)\n        +1 346
  248 7799 US (Houston)\n        +1 669 900 9128 US (San Jose)\n        +1 
 253 215 8782 US (Tacoma)\nMeeting ID: 614 869 3412\nFind your local number
 : https://us02web.zoom.us/u/kbfRZ93suh\n\n
DTSTART;TZID=America/New_York:20210205T110000
DTEND;TZID=America/New_York:20210205T120000
LOCATION:Zoom!
SUMMARY:Nominating Committee
END:VEVENT
END:VCALENDAR
