BEGIN:VCALENDAR
VERSION:2.0
PRODID:-//www.charitablehealthcarenetwork.org//NONSGML kigkonsult.se iCalcr
 eator 2.30.10//
CALSCALE:GREGORIAN
METHOD:PUBLISH
UID:ab488ced-f5a9-45a2-aa90-9628fa02457a
X-WR-CALDESC:
X-WR-RELCALID:3056ba62ee8d94079ba5aa3f6f554978
X-WR-TIMEZONE:America/New_York
BEGIN:VTIMEZONE
TZID:America/New_York
BEGIN:STANDARD
TZNAME:EST
DTSTART:20201101T020000
TZOFFSETFROM:-0400
TZOFFSETTO:-0500
RDATE:20211107T020000
END:STANDARD
BEGIN:DAYLIGHT
TZNAME:EDT
DTSTART:20200308T020000
TZOFFSETFROM:-0500
TZOFFSETTO:-0400
RDATE:20210314T020000
RDATE:20220313T020000
END:DAYLIGHT
END:VTIMEZONE
BEGIN:VEVENT
UID:c19133b8-1026-418f-977a-dbf8edf47e20
DTSTAMP:20260425T233642Z
DESCRIPTION:
DTSTART;TZID=America/New_York:20210212T080000
DTEND;TZID=America/New_York:20210212T090000
LOCATION:Committee Members: please contact Christianna for Zoom link and lo
 gin information.
SUMMARY:UCF Distribution Committee Meeting
END:VEVENT
END:VCALENDAR
