BEGIN:VCALENDAR
VERSION:2.0
PRODID:-//www.charitablehealthcarenetwork.org//NONSGML kigkonsult.se iCalcr
 eator 2.30.10//
CALSCALE:GREGORIAN
METHOD:PUBLISH
UID:761c8d1d-5af3-414c-9d00-6301f91724c2
X-WR-CALDESC:Deborah Miller is inviting you to a scheduled Zoom meeting.\n
 \nTopic: Nominating Committee Meeting\nTime: Mar 5\, 2021 11:00 AM Eastern
  Time (US and Canada)\n        Every month on the First Fri\, until Apr 2\
 , 2021\, 2 occurrence(s)\n        Mar 5\, 2021 11:00 AM\n        Apr 2\, 2
 021 11:00 AM\nPlease download and import the following iCalendar (.ics) fi
 les to your calendar system.\nMonthly: https://us02web.zoom.us/meeting/tZ0
 lf-6hpjIiG9TTasW3LP_upgVd2I_brt-H/ics?icsToken=98tyKuGhpjMtE9ycuBiHRpx5Goq
 gKPPxiFhHjfppqB72NHN_UjzjJuV0NuBWL9rC\n\nJoin Zoom Meeting\nhttps://us02we
 b.zoom.us/j/89887989810\n\nMeeting ID: 898 8798 9810\nOne tap mobile\n+130
 17158592\,\,89887989810# US (Washington D.C)\n+13126266799\,\,89887989810#
  US (Chicago)\n\nDial by your location\n        +1 301 715 8592 US (Washin
 gton D.C)\n        +1 312 626 6799 US (Chicago)\n        +1 646 558 8656 U
 S (New York)\n        +1 253 215 8782 US (Tacoma)\n        +1 346 248 7799
  US (Houston)\n        +1 669 900 9128 US (San Jose)\nMeeting ID: 898 8798
  9810\nFind your local number: https://us02web.zoom.us/u/kdRMEpfNHE\n\n
X-WR-RELCALID:3a90c4c25a9f8ffde249e4150ed49179
X-WR-TIMEZONE:America/New_York
BEGIN:VTIMEZONE
TZID:America/New_York
BEGIN:STANDARD
TZNAME:EST
DTSTART:20201101T020000
TZOFFSETFROM:-0400
TZOFFSETTO:-0500
RDATE:20211107T020000
END:STANDARD
BEGIN:DAYLIGHT
TZNAME:EDT
DTSTART:20200308T020000
TZOFFSETFROM:-0500
TZOFFSETTO:-0400
RDATE:20210314T020000
RDATE:20220313T020000
END:DAYLIGHT
END:VTIMEZONE
BEGIN:VEVENT
UID:3545a770-37b6-4b56-913c-936361027c0e
DTSTAMP:20260425T220650Z
DESCRIPTION:Deborah Miller is inviting you to a scheduled Zoom meeting.\n\n
 Topic: Nominating Committee Meeting\nTime: Mar 5\, 2021 11:00 AM Eastern T
 ime (US and Canada)\n        Every month on the First Fri\, until Apr 2\, 
 2021\, 2 occurrence(s)\n        Mar 5\, 2021 11:00 AM\n        Apr 2\, 202
 1 11:00 AM\nPlease download and import the following iCalendar (.ics) file
 s to your calendar system.\nMonthly: https://us02web.zoom.us/meeting/tZ0lf
 -6hpjIiG9TTasW3LP_upgVd2I_brt-H/ics?icsToken=98tyKuGhpjMtE9ycuBiHRpx5GoqgK
 PPxiFhHjfppqB72NHN_UjzjJuV0NuBWL9rC\n\nJoin Zoom Meeting\nhttps://us02web.
 zoom.us/j/89887989810\n\nMeeting ID: 898 8798 9810\nOne tap mobile\n+13017
 158592\,\,89887989810# US (Washington D.C)\n+13126266799\,\,89887989810# U
 S (Chicago)\n\nDial by your location\n        +1 301 715 8592 US (Washingt
 on D.C)\n        +1 312 626 6799 US (Chicago)\n        +1 646 558 8656 US 
 (New York)\n        +1 253 215 8782 US (Tacoma)\n        +1 346 248 7799 U
 S (Houston)\n        +1 669 900 9128 US (San Jose)\nMeeting ID: 898 8798 9
 810\nFind your local number: https://us02web.zoom.us/u/kdRMEpfNHE\n\n
DTSTART;TZID=America/New_York:20210305T110000
DTEND;TZID=America/New_York:20210305T120000
LOCATION:Zoom!
SUMMARY:Nominating Committee
END:VEVENT
END:VCALENDAR
