BEGIN:VCALENDAR
VERSION:2.0
PRODID:-//www.charitablehealthcarenetwork.org//NONSGML kigkonsult.se iCalcr
 eator 2.30.10//
CALSCALE:GREGORIAN
METHOD:PUBLISH
UID:a23fb804-4ff3-40e3-9638-c32d79840982
X-WR-CALDESC:
X-WR-RELCALID:b1912193ea44e55f3e1675201a5d911d
X-WR-TIMEZONE:America/New_York
BEGIN:VTIMEZONE
TZID:America/New_York
BEGIN:STANDARD
TZNAME:EST
DTSTART:20201101T020000
TZOFFSETFROM:-0400
TZOFFSETTO:-0500
RDATE:20211107T020000
END:STANDARD
BEGIN:DAYLIGHT
TZNAME:EDT
DTSTART:20210314T020000
TZOFFSETFROM:-0500
TZOFFSETTO:-0400
RDATE:20220313T020000
END:DAYLIGHT
END:VTIMEZONE
BEGIN:VEVENT
UID:dbb02240-366b-4708-961c-8942bd2833be
DTSTAMP:20260425T220244Z
DESCRIPTION:
DTSTART;TZID=America/New_York:20210311T093000
DTEND;TZID=America/New_York:20210311T103000
LOCATION:
SUMMARY:Education Committee Meeting
END:VEVENT
END:VCALENDAR
