BEGIN:VCALENDAR
VERSION:2.0
PRODID:-//www.charitablehealthcarenetwork.org//NONSGML kigkonsult.se iCalcr
 eator 2.30.10//
CALSCALE:GREGORIAN
METHOD:PUBLISH
UID:9b040a9e-d991-4d58-817a-55a45b41597c
X-WR-CALDESC:
X-WR-RELCALID:3f0e48c2d2a2f40f31c701c0cad2d6e9
X-WR-TIMEZONE:America/New_York
BEGIN:VTIMEZONE
TZID:America/New_York
BEGIN:STANDARD
TZNAME:EST
DTSTART:20201101T020000
TZOFFSETFROM:-0400
TZOFFSETTO:-0500
RDATE:20211107T020000
END:STANDARD
BEGIN:DAYLIGHT
TZNAME:EDT
DTSTART:20210314T020000
TZOFFSETFROM:-0500
TZOFFSETTO:-0400
RDATE:20220313T020000
END:DAYLIGHT
END:VTIMEZONE
BEGIN:VEVENT
UID:0bb88e65-0355-4359-8649-8437f73106f8
DTSTAMP:20260425T221125Z
DESCRIPTION:
DTSTART;TZID=America/New_York:20210312T080000
DTEND;TZID=America/New_York:20210312T090000
LOCATION:Committee Members: please contact Christianna for Zoom link and lo
 gin information.
SUMMARY:UCF Distribution Committee Meeting
END:VEVENT
END:VCALENDAR
