BEGIN:VCALENDAR
VERSION:2.0
PRODID:-//www.charitablehealthcarenetwork.org//NONSGML kigkonsult.se iCalcr
 eator 2.30.10//
CALSCALE:GREGORIAN
METHOD:PUBLISH
UID:b28551ae-c8b9-4e16-87ca-a1e939262d0d
X-WR-CALDESC:
X-WR-RELCALID:2b9d0c66057b51d770bc4e3fedd8e863
X-WR-TIMEZONE:America/New_York
BEGIN:VTIMEZONE
TZID:America/New_York
BEGIN:STANDARD
TZNAME:EST
DTSTART:20201101T020000
TZOFFSETFROM:-0400
TZOFFSETTO:-0500
RDATE:20211107T020000
END:STANDARD
BEGIN:DAYLIGHT
TZNAME:EDT
DTSTART:20210314T020000
TZOFFSETFROM:-0500
TZOFFSETTO:-0400
RDATE:20220313T020000
END:DAYLIGHT
END:VTIMEZONE
BEGIN:VEVENT
UID:2671f721-6a01-4c8c-a2cb-bfb574aa311b
DTSTAMP:20260425T220956Z
DESCRIPTION:
DTSTART;TZID=America/New_York:20210326T120000
DTEND;TZID=America/New_York:20210326T140000
LOCATION:https://us02web.zoom.us/j/86202773761?pwd=Uzl5cjNGMWZLamRpZ1J0ZDJl
 blF0QT09
SUMMARY:CHN Board Meeting
END:VEVENT
END:VCALENDAR
