BEGIN:VCALENDAR
VERSION:2.0
PRODID:-//www.charitablehealthcarenetwork.org//NONSGML kigkonsult.se iCalcr
 eator 2.30.10//
CALSCALE:GREGORIAN
METHOD:PUBLISH
UID:17cabb6b-dd50-4d21-81a6-9d89ab7dd800
X-WR-CALDESC:
X-WR-RELCALID:2aa2abf9fb34d30e6c2c60bc86803b22
X-WR-TIMEZONE:America/New_York
BEGIN:VTIMEZONE
TZID:America/New_York
BEGIN:STANDARD
TZNAME:EST
DTSTART:20201101T020000
TZOFFSETFROM:-0400
TZOFFSETTO:-0500
RDATE:20211107T020000
END:STANDARD
BEGIN:DAYLIGHT
TZNAME:EDT
DTSTART:20210314T020000
TZOFFSETFROM:-0500
TZOFFSETTO:-0400
RDATE:20220313T020000
END:DAYLIGHT
END:VTIMEZONE
BEGIN:VEVENT
UID:8cf1d660-b32a-4b6d-af54-effdb584eef5
DTSTAMP:20260425T203415Z
DESCRIPTION:
DTSTART;TZID=America/New_York:20210409T080000
DTEND;TZID=America/New_York:20210409T090000
LOCATION:Committee Members: please contact Christianna for Zoom link and lo
 gin information.
SUMMARY:UCF Distribution Committee Meeting
END:VEVENT
END:VCALENDAR
