BEGIN:VCALENDAR
VERSION:2.0
PRODID:-//www.charitablehealthcarenetwork.org//NONSGML kigkonsult.se iCalcr
 eator 2.30.10//
CALSCALE:GREGORIAN
METHOD:PUBLISH
UID:767e6a79-1447-4449-8318-95a522ea6d3f
X-WR-CALDESC:Q3 Report (January 1\, 2021 - March 31\, 2021) for 2020/21 UCF
  Direct Services Due.
X-WR-RELCALID:fbf059d19f5f52e61f7bac509bfcea08
X-WR-TIMEZONE:America/New_York
BEGIN:VTIMEZONE
TZID:America/New_York
BEGIN:STANDARD
TZNAME:EST
DTSTART:20201101T020000
TZOFFSETFROM:-0400
TZOFFSETTO:-0500
RDATE:20211107T020000
END:STANDARD
BEGIN:DAYLIGHT
TZNAME:EDT
DTSTART:20210314T020000
TZOFFSETFROM:-0500
TZOFFSETTO:-0400
RDATE:20220313T020000
END:DAYLIGHT
END:VTIMEZONE
BEGIN:VEVENT
UID:f12c741f-2908-4cd3-abd0-92db66f45344
DTSTAMP:20260425T203853Z
DESCRIPTION:Q3 Report (January 1\, 2021 - March 31\, 2021) for 2020/21 UCF 
 Direct Services Due.
DTSTART;TZID=America/New_York:20210416T000000
DTEND;TZID=America/New_York:20210416T235900
LOCATION:
SUMMARY:UCF Direct Services: Q3 Report Due
END:VEVENT
END:VCALENDAR
