BEGIN:VCALENDAR
VERSION:2.0
PRODID:-//www.charitablehealthcarenetwork.org//NONSGML kigkonsult.se iCalcr
 eator 2.30.10//
CALSCALE:GREGORIAN
METHOD:PUBLISH
UID:b022dc9b-b9fa-4f1a-b0aa-9fbb06006ce0
X-WR-CALDESC:
X-WR-RELCALID:adae7719cde42529434505bed9efc864
X-WR-TIMEZONE:America/New_York
BEGIN:VTIMEZONE
TZID:America/New_York
BEGIN:STANDARD
TZNAME:EST
DTSTART:20201101T020000
TZOFFSETFROM:-0400
TZOFFSETTO:-0500
RDATE:20211107T020000
RDATE:20221106T020000
END:STANDARD
BEGIN:DAYLIGHT
TZNAME:EDT
DTSTART:20210314T020000
TZOFFSETFROM:-0500
TZOFFSETTO:-0400
RDATE:20220313T020000
END:DAYLIGHT
END:VTIMEZONE
BEGIN:VEVENT
UID:8d2cbd21-c07b-418f-a8fb-d28bdfc6883e
DTSTAMP:20260425T191451Z
DESCRIPTION:
DTSTART;TZID=America/New_York:20210528T120000
DTEND;TZID=America/New_York:20210528T140000
LOCATION:https://us02web.zoom.us/j/86202773761?pwd=Uzl5cjNGMWZLamRpZ1J0ZDJl
 blF0QT09
SUMMARY:CHN Board Meeting
END:VEVENT
END:VCALENDAR
