BEGIN:VCALENDAR
VERSION:2.0
PRODID:-//www.charitablehealthcarenetwork.org//NONSGML kigkonsult.se iCalcr
 eator 2.30.10//
CALSCALE:GREGORIAN
METHOD:PUBLISH
UID:7b75d188-e45d-4819-bfe0-8f45bbf97a32
X-WR-CALDESC:
X-WR-RELCALID:c74fabb53cea0cd0997617fb51b81777
X-WR-TIMEZONE:America/New_York
BEGIN:VTIMEZONE
TZID:America/New_York
BEGIN:STANDARD
TZNAME:EST
DTSTART:20201101T020000
TZOFFSETFROM:-0400
TZOFFSETTO:-0500
RDATE:20211107T020000
RDATE:20221106T020000
END:STANDARD
BEGIN:DAYLIGHT
TZNAME:EDT
DTSTART:20210314T020000
TZOFFSETFROM:-0500
TZOFFSETTO:-0400
RDATE:20220313T020000
END:DAYLIGHT
END:VTIMEZONE
BEGIN:VEVENT
UID:4880f480-9100-4739-aa05-2be6e208eb3b
DTSTAMP:20260425T174839Z
DESCRIPTION:
DTSTART;TZID=America/New_York:20210610T093000
DTEND;TZID=America/New_York:20210610T103000
LOCATION:
SUMMARY:Education Committee Meeting
END:VEVENT
END:VCALENDAR
