BEGIN:VCALENDAR
VERSION:2.0
PRODID:-//www.charitablehealthcarenetwork.org//NONSGML kigkonsult.se iCalcr
 eator 2.30.10//
CALSCALE:GREGORIAN
METHOD:PUBLISH
UID:b60122a4-3b2c-4870-935e-f75d5ab7be9a
X-WR-CALDESC:Q4 Report (April 1\, 2021 - June 30\, 2021) for 2020/21 UCF Di
 rect Services Due.
X-WR-RELCALID:3a607788b2444df3245f1031867cab17
X-WR-TIMEZONE:America/New_York
BEGIN:VTIMEZONE
TZID:America/New_York
BEGIN:STANDARD
TZNAME:EST
DTSTART:20201101T020000
TZOFFSETFROM:-0400
TZOFFSETTO:-0500
RDATE:20211107T020000
RDATE:20221106T020000
END:STANDARD
BEGIN:DAYLIGHT
TZNAME:EDT
DTSTART:20210314T020000
TZOFFSETFROM:-0500
TZOFFSETTO:-0400
RDATE:20220313T020000
END:DAYLIGHT
END:VTIMEZONE
BEGIN:VEVENT
UID:cd6e14c7-e536-47d0-bcfe-3ba9018dd351
DTSTAMP:20260425T163323Z
DESCRIPTION:Q4 Report (April 1\, 2021 - June 30\, 2021) for 2020/21 UCF Dir
 ect Services Due.
DTSTART;TZID=America/New_York:20210716T000000
DTEND;TZID=America/New_York:20210716T235900
LOCATION:
SUMMARY:UCF Direct Services: Q4 Report Due
END:VEVENT
END:VCALENDAR
