BEGIN:VCALENDAR
VERSION:2.0
PRODID:-//www.charitablehealthcarenetwork.org//NONSGML kigkonsult.se iCalcr
 eator 2.30.10//
CALSCALE:GREGORIAN
METHOD:PUBLISH
UID:aaf16bf2-e9c1-435e-a451-5f60044222c2
X-WR-CALDESC:
X-WR-RELCALID:8cede4e57ce7ad0ae5755cd4d51f9c9c
X-WR-TIMEZONE:America/New_York
BEGIN:VTIMEZONE
TZID:America/New_York
BEGIN:STANDARD
TZNAME:EST
DTSTART:20201101T020000
TZOFFSETFROM:-0400
TZOFFSETTO:-0500
RDATE:20211107T020000
RDATE:20221106T020000
END:STANDARD
BEGIN:DAYLIGHT
TZNAME:EDT
DTSTART:20210314T020000
TZOFFSETFROM:-0500
TZOFFSETTO:-0400
RDATE:20220313T020000
END:DAYLIGHT
END:VTIMEZONE
BEGIN:VEVENT
UID:d0c35b2e-55ae-44d3-8b70-6cb0122c5f9b
DTSTAMP:20260425T163257Z
DESCRIPTION:
DTSTART;TZID=America/New_York:20210728T100000
DTEND;TZID=America/New_York:20210728T110000
LOCATION:
SUMMARY:Legislative Committee Meeting
END:VEVENT
END:VCALENDAR
