BEGIN:VCALENDAR
VERSION:2.0
PRODID:-//www.charitablehealthcarenetwork.org//NONSGML kigkonsult.se iCalcr
 eator 2.30.10//
CALSCALE:GREGORIAN
METHOD:PUBLISH
UID:326ea87a-4dba-48ee-b922-6ab03df13f6b
X-WR-CALDESC:
X-WR-RELCALID:2b085558e7e588ac6ea6f3d098343a12
X-WR-TIMEZONE:America/New_York
BEGIN:VTIMEZONE
TZID:America/New_York
BEGIN:STANDARD
TZNAME:EST
DTSTART:20201101T020000
TZOFFSETFROM:-0400
TZOFFSETTO:-0500
RDATE:20211107T020000
RDATE:20221106T020000
END:STANDARD
BEGIN:DAYLIGHT
TZNAME:EDT
DTSTART:20210314T020000
TZOFFSETFROM:-0500
TZOFFSETTO:-0400
RDATE:20220313T020000
END:DAYLIGHT
END:VTIMEZONE
BEGIN:VEVENT
UID:236a2242-7061-487a-82da-33312969ac0b
DTSTAMP:20260425T144602Z
DESCRIPTION:
DTSTART;TZID=America/New_York:20210812T093000
DTEND;TZID=America/New_York:20210812T103000
LOCATION:
SUMMARY:Education Committee Meeting
END:VEVENT
END:VCALENDAR
