BEGIN:VCALENDAR
VERSION:2.0
PRODID:-//www.charitablehealthcarenetwork.org//NONSGML kigkonsult.se iCalcr
 eator 2.30.10//
CALSCALE:GREGORIAN
METHOD:PUBLISH
UID:aa2b5ac5-fbb0-4b23-ba89-975fadccd8eb
X-WR-CALDESC:
X-WR-RELCALID:b1ad3fd08206c45af487b5940f80453f
X-WR-TIMEZONE:America/New_York
BEGIN:VTIMEZONE
TZID:America/New_York
BEGIN:STANDARD
TZNAME:EST
DTSTART:20201101T020000
TZOFFSETFROM:-0400
TZOFFSETTO:-0500
RDATE:20211107T020000
RDATE:20221106T020000
END:STANDARD
BEGIN:DAYLIGHT
TZNAME:EDT
DTSTART:20210314T020000
TZOFFSETFROM:-0500
TZOFFSETTO:-0400
RDATE:20220313T020000
RDATE:20230312T020000
END:DAYLIGHT
END:VTIMEZONE
BEGIN:VEVENT
UID:df80368c-ff2f-4e4c-8b8a-79e626e8b338
DTSTAMP:20260425T133727Z
DESCRIPTION:
DTSTART;TZID=America/New_York:20210922T100000
DTEND;TZID=America/New_York:20210922T110000
LOCATION:
SUMMARY:Legislative Committee Meeting
END:VEVENT
END:VCALENDAR
