BEGIN:VCALENDAR
VERSION:2.0
PRODID:-//www.charitablehealthcarenetwork.org//NONSGML kigkonsult.se iCalcr
 eator 2.30.10//
CALSCALE:GREGORIAN
METHOD:PUBLISH
UID:aa78aefa-12e6-47c4-83c9-48616f8e73ca
X-WR-CALDESC:
X-WR-RELCALID:228b636b02bd524ee350687676e331ec
X-WR-TIMEZONE:America/New_York
BEGIN:VTIMEZONE
TZID:America/New_York
BEGIN:STANDARD
TZNAME:EST
DTSTART:20201101T020000
TZOFFSETFROM:-0400
TZOFFSETTO:-0500
RDATE:20211107T020000
RDATE:20221106T020000
END:STANDARD
BEGIN:DAYLIGHT
TZNAME:EDT
DTSTART:20210314T020000
TZOFFSETFROM:-0500
TZOFFSETTO:-0400
RDATE:20220313T020000
RDATE:20230312T020000
END:DAYLIGHT
END:VTIMEZONE
BEGIN:VEVENT
UID:2f48f37a-1b65-460c-be40-20feb33cc168
DTSTAMP:20260425T133844Z
DESCRIPTION:
DTSTART;TZID=America/New_York:20210924T120000
DTEND;TZID=America/New_York:20210924T140000
LOCATION:https://us02web.zoom.us/j/86202773761?pwd=Uzl5cjNGMWZLamRpZ1J0ZDJl
 blF0QT09
SUMMARY:CHN Board Meeting
END:VEVENT
END:VCALENDAR
