BEGIN:VCALENDAR
VERSION:2.0
PRODID:-//www.charitablehealthcarenetwork.org//NONSGML kigkonsult.se iCalcr
 eator 2.30.10//
CALSCALE:GREGORIAN
METHOD:PUBLISH
UID:9b150e56-f649-4ac8-a361-1b74fb897620
X-WR-CALDESC:Deborah Miller is inviting you to a scheduled Zoom meeting.\n
 \nTopic: Finance Committee Meeting\nTime: Dec 18\, 2020 12:00 PM Eastern T
 ime (US and Canada)\n      \nPlease download and import the following iCal
 endar (.ics) files to your calendar system.\nMonthly: https://us02web.zoom
 .us/meeting/tZcvduitqDoqH9xAj8l9fIIAiDwioitDpGU2/ics?icsToken=98tyKuGrrDor
 H9KUsByPRpwqAIj4d-_wpn5fgvpFvRW9D3lVSyrXP8ZVO712BPzA\n\nJoin Zoom Meeting
 \nhttps://us02web.zoom.us/j/83211561058\n\nMeeting ID: 832 1156 1058\nOne 
 tap mobile\n+16465588656\,\,83211561058# US (New York)\n+13017158592\,\,83
 211561058# US (Washington D.C)\n\nDial by your location\n        +1 646 55
 8 8656 US (New York)\n        +1 301 715 8592 US (Washington D.C)\n       
  +1 312 626 6799 US (Chicago)\n        +1 669 900 9128 US (San Jose)\n    
     +1 253 215 8782 US (Tacoma)\n        +1 346 248 7799 US (Houston)\nMee
 ting ID: 832 1156 1058\nFind your local number: https://us02web.zoom.us/u/
 kJAqRhZa2\n
X-WR-RELCALID:1d1ac22d330e689c2adb8e10e425b770
X-WR-TIMEZONE:America/New_York
BEGIN:VTIMEZONE
TZID:America/New_York
BEGIN:STANDARD
TZNAME:EST
DTSTART:20201101T020000
TZOFFSETFROM:-0400
TZOFFSETTO:-0500
RDATE:20211107T020000
RDATE:20221106T020000
END:STANDARD
BEGIN:DAYLIGHT
TZNAME:EDT
DTSTART:20210314T020000
TZOFFSETFROM:-0500
TZOFFSETTO:-0400
RDATE:20220313T020000
RDATE:20230312T020000
END:DAYLIGHT
END:VTIMEZONE
BEGIN:VEVENT
UID:bd9a625c-db62-4fc6-8671-8291d184c2cc
DTSTAMP:20260425T122550Z
DESCRIPTION:Deborah Miller is inviting you to a scheduled Zoom meeting.\n\n
 Topic: Finance Committee Meeting\nTime: Dec 18\, 2020 12:00 PM Eastern Tim
 e (US and Canada)\n      \nPlease download and import the following iCalen
 dar (.ics) files to your calendar system.\nMonthly: https://us02web.zoom.u
 s/meeting/tZcvduitqDoqH9xAj8l9fIIAiDwioitDpGU2/ics?icsToken=98tyKuGrrDorH9
 KUsByPRpwqAIj4d-_wpn5fgvpFvRW9D3lVSyrXP8ZVO712BPzA\n\nJoin Zoom Meeting\nh
 ttps://us02web.zoom.us/j/83211561058\n\nMeeting ID: 832 1156 1058\nOne tap
  mobile\n+16465588656\,\,83211561058# US (New York)\n+13017158592\,\,83211
 561058# US (Washington D.C)\n\nDial by your location\n        +1 646 558 8
 656 US (New York)\n        +1 301 715 8592 US (Washington D.C)\n        +1
  312 626 6799 US (Chicago)\n        +1 669 900 9128 US (San Jose)\n       
  +1 253 215 8782 US (Tacoma)\n        +1 346 248 7799 US (Houston)\nMeetin
 g ID: 832 1156 1058\nFind your local number: https://us02web.zoom.us/u/kJA
 qRhZa2\n
DTSTART;TZID=America/New_York:20211015T120000
DTEND;TZID=America/New_York:20211015T123000
LOCATION:Zoom Meeting
SUMMARY:Finance Committee
END:VEVENT
END:VCALENDAR
