BEGIN:VCALENDAR
VERSION:2.0
PRODID:-//www.charitablehealthcarenetwork.org//NONSGML kigkonsult.se iCalcr
 eator 2.30.10//
CALSCALE:GREGORIAN
METHOD:PUBLISH
UID:66ff4b50-59cf-4b95-aaad-e6944e2315b4
X-WR-CALDESC:
X-WR-RELCALID:045a830b4b3886602b5893eb2f931e2e
X-WR-TIMEZONE:America/New_York
BEGIN:VTIMEZONE
TZID:America/New_York
BEGIN:STANDARD
TZNAME:EST
DTSTART:20201101T020000
TZOFFSETFROM:-0400
TZOFFSETTO:-0500
RDATE:20211107T020000
RDATE:20221106T020000
END:STANDARD
BEGIN:DAYLIGHT
TZNAME:EDT
DTSTART:20210314T020000
TZOFFSETFROM:-0500
TZOFFSETTO:-0400
RDATE:20220313T020000
RDATE:20230312T020000
END:DAYLIGHT
END:VTIMEZONE
BEGIN:VEVENT
UID:24137af6-6858-4259-9604-6abbbda8b5e8
DTSTAMP:20260425T122305Z
DESCRIPTION:
DTSTART;TZID=America/New_York:20211027T100000
DTEND;TZID=America/New_York:20211027T110000
LOCATION:
SUMMARY:Legislative Committee Meeting
END:VEVENT
END:VCALENDAR
