BEGIN:VCALENDAR
VERSION:2.0
PRODID:-//www.charitablehealthcarenetwork.org//NONSGML kigkonsult.se iCalcr
 eator 2.30.10//
CALSCALE:GREGORIAN
METHOD:PUBLISH
UID:bcbc4388-b084-4d80-b1b6-5203277d27c1
X-WR-CALDESC:
X-WR-RELCALID:4066c0ebd8692bc003ff16c555102e8b
X-WR-TIMEZONE:America/New_York
BEGIN:VTIMEZONE
TZID:America/New_York
BEGIN:STANDARD
TZNAME:EST
DTSTART:20211107T020000
TZOFFSETFROM:-0400
TZOFFSETTO:-0500
RDATE:20221106T020000
END:STANDARD
BEGIN:DAYLIGHT
TZNAME:EDT
DTSTART:20210314T020000
TZOFFSETFROM:-0500
TZOFFSETTO:-0400
RDATE:20220313T020000
RDATE:20230312T020000
END:DAYLIGHT
END:VTIMEZONE
BEGIN:VEVENT
UID:64b626bc-8add-4226-81a3-421b8423a9c2
DTSTAMP:20260425T105739Z
DESCRIPTION:
DTSTART;TZID=America/New_York:20211119T100000
DTEND;TZID=America/New_York:20211119T120000
LOCATION:https://us02web.zoom.us/j/86202773761?pwd=Uzl5cjNGMWZLamRpZ1J0ZDJl
 blF0QT09
SUMMARY:CHN Board Meeting
END:VEVENT
END:VCALENDAR
