BEGIN:VCALENDAR
VERSION:2.0
PRODID:-//www.charitablehealthcarenetwork.org//NONSGML kigkonsult.se iCalcr
 eator 2.30.10//
CALSCALE:GREGORIAN
METHOD:PUBLISH
UID:40013362-a5b4-4013-aed3-0b9f8eac67d5
X-WR-CALDESC:Finance Committee Members: Please contact Christianna Barnard 
 for Zoom meeting log-in information.
X-WR-RELCALID:b7223975bdae50346ad397cbc380a4a9
X-WR-TIMEZONE:America/New_York
BEGIN:VTIMEZONE
TZID:America/New_York
BEGIN:STANDARD
TZNAME:EST
DTSTART:20211107T020000
TZOFFSETFROM:-0400
TZOFFSETTO:-0500
RDATE:20221106T020000
END:STANDARD
BEGIN:DAYLIGHT
TZNAME:EDT
DTSTART:20210314T020000
TZOFFSETFROM:-0500
TZOFFSETTO:-0400
RDATE:20220313T020000
RDATE:20230312T020000
END:DAYLIGHT
END:VTIMEZONE
BEGIN:VEVENT
UID:071f0ae4-465b-42be-a65b-48f3327a826f
DTSTAMP:20260419T190908Z
DESCRIPTION:Finance Committee Members: Please contact Christianna Barnard f
 or Zoom meeting log-in information.
DTSTART;TZID=America/New_York:20220121T120000
DTEND;TZID=America/New_York:20220121T123000
LOCATION:Zoom Meeting
SUMMARY:Finance Committee
END:VEVENT
END:VCALENDAR
