BEGIN:VCALENDAR
VERSION:2.0
PRODID:-//www.charitablehealthcarenetwork.org//NONSGML kigkonsult.se iCalcr
 eator 2.30.10//
CALSCALE:GREGORIAN
METHOD:PUBLISH
UID:6661cfff-a39b-4a48-96ab-23df9ef17b20
X-WR-CALDESC:Finance Committee Members: Please contact Christianna Barnard 
 for Zoom meeting log-in information.
X-WR-RELCALID:4e7d3cac77138bd2c2dfc797b468c27a
X-WR-TIMEZONE:America/New_York
BEGIN:VTIMEZONE
TZID:America/New_York
BEGIN:STANDARD
TZNAME:EST
DTSTART:20211107T020000
TZOFFSETFROM:-0400
TZOFFSETTO:-0500
RDATE:20221106T020000
END:STANDARD
BEGIN:DAYLIGHT
TZNAME:EDT
DTSTART:20220313T020000
TZOFFSETFROM:-0500
TZOFFSETTO:-0400
RDATE:20230312T020000
END:DAYLIGHT
END:VTIMEZONE
BEGIN:VEVENT
UID:bd53ce60-8a19-4e48-b69a-3347fbbcee45
DTSTAMP:20260425T041229Z
DESCRIPTION:Finance Committee Members: Please contact Christianna Barnard f
 or Zoom meeting log-in information.
DTSTART;TZID=America/New_York:20220415T120000
DTEND;TZID=America/New_York:20220415T123000
LOCATION:Zoom Meeting
SUMMARY:Finance Committee
END:VEVENT
END:VCALENDAR
