BEGIN:VCALENDAR
VERSION:2.0
PRODID:-//www.charitablehealthcarenetwork.org//NONSGML kigkonsult.se iCalcr
 eator 2.30.10//
CALSCALE:GREGORIAN
METHOD:PUBLISH
UID:fe8392c2-5525-4017-8400-c8610681aabd
X-WR-CALDESC:
X-WR-RELCALID:a1de911fb87b29c1a633e113ce74c48a
X-WR-TIMEZONE:America/New_York
BEGIN:VTIMEZONE
TZID:America/New_York
BEGIN:STANDARD
TZNAME:EST
DTSTART:20211107T020000
TZOFFSETFROM:-0400
TZOFFSETTO:-0500
RDATE:20221106T020000
RDATE:20231105T020000
END:STANDARD
BEGIN:DAYLIGHT
TZNAME:EDT
DTSTART:20220313T020000
TZOFFSETFROM:-0500
TZOFFSETTO:-0400
RDATE:20230312T020000
END:DAYLIGHT
END:VTIMEZONE
BEGIN:VEVENT
UID:1d455d65-fbb0-4f32-a1ee-67ec8cae6285
DTSTAMP:20260425T025549Z
DESCRIPTION:
DTSTART;TZID=America/New_York:20220525T100000
DTEND;TZID=America/New_York:20220525T110000
LOCATION:
SUMMARY:Legislative Committee Meeting
END:VEVENT
END:VCALENDAR
