BEGIN:VCALENDAR
VERSION:2.0
PRODID:-//www.charitablehealthcarenetwork.org//NONSGML kigkonsult.se iCalcr
 eator 2.30.10//
CALSCALE:GREGORIAN
METHOD:PUBLISH
UID:5aadd162-543b-42df-9874-3e550cbe49f2
X-WR-CALDESC:
X-WR-RELCALID:e31fa898e56730921470e8dc0152a505
X-WR-TIMEZONE:America/New_York
BEGIN:VTIMEZONE
TZID:America/New_York
BEGIN:STANDARD
TZNAME:EST
DTSTART:20211107T020000
TZOFFSETFROM:-0400
TZOFFSETTO:-0500
RDATE:20221106T020000
RDATE:20231105T020000
END:STANDARD
BEGIN:DAYLIGHT
TZNAME:EDT
DTSTART:20220313T020000
TZOFFSETFROM:-0500
TZOFFSETTO:-0400
RDATE:20230312T020000
END:DAYLIGHT
END:VTIMEZONE
BEGIN:VEVENT
UID:a780eda2-65e7-400f-83cd-94c06073f423
DTSTAMP:20260425T012317Z
DESCRIPTION:
DTSTART;TZID=America/New_York:20220609T093000
DTEND;TZID=America/New_York:20220609T103000
LOCATION:
SUMMARY:Education Committee Meeting
END:VEVENT
END:VCALENDAR
