BEGIN:VCALENDAR
VERSION:2.0
PRODID:-//www.charitablehealthcarenetwork.org//NONSGML kigkonsult.se iCalcr
 eator 2.30.10//
CALSCALE:GREGORIAN
METHOD:PUBLISH
UID:92a9b2d2-6ccb-480f-b2d6-7233756541b8
X-WR-CALDESC:
X-WR-RELCALID:c833670a67cb5fe77af42b4bbc27f618
X-WR-TIMEZONE:America/New_York
BEGIN:VTIMEZONE
TZID:America/New_York
BEGIN:STANDARD
TZNAME:EST
DTSTART:20211107T020000
TZOFFSETFROM:-0400
TZOFFSETTO:-0500
RDATE:20221106T020000
RDATE:20231105T020000
END:STANDARD
BEGIN:DAYLIGHT
TZNAME:EDT
DTSTART:20220313T020000
TZOFFSETFROM:-0500
TZOFFSETTO:-0400
RDATE:20230312T020000
END:DAYLIGHT
END:VTIMEZONE
BEGIN:VEVENT
UID:5d1a055c-e7e2-4ce6-baf9-eb60eeadf9fc
DTSTAMP:20260425T012348Z
DESCRIPTION:
DTSTART;TZID=America/New_York:20220622T100000
DTEND;TZID=America/New_York:20220622T110000
LOCATION:
SUMMARY:Legislative Committee Meeting
END:VEVENT
END:VCALENDAR
